BEGIN:VCALENDAR
VERSION:2.0
PRODID:-//eventon.com NONSGML v1.0//EN
BEGIN:VEVENT
UID:69eaa1a8a2ab4
DTSTAMP:20260423T194808
DTSTART:20210523T210000Z
DTEND:20210523T230000Z
LOCATION:
SUMMARY:Peña Oficial de la Ciudad
DESCRIPTION: Un domingo a puro chamamé se podrá disfrutar a través de las plataformas digitales de la Municipalidad de Corrientes en lo que será una nueva edición de la Peña Oficial de la Ciudad 2.0. Desde las 18\,  en la comodidad de su hogar\,  los vecinos y amantes de esta música[..]
END:VEVENT
END:VCALENDAR