BEGIN:VCALENDAR
VERSION:2.0
PRODID:-//eventon.com NONSGML v1.0//EN
BEGIN:VEVENT
UID:69ead0452036f
DTSTAMP:20260423T230701
DTSTART:20210520T140000Z
DTEND:20210520T150000Z
LOCATION:Legislatura Provincial Salta 545
SUMMARY:Celebremos la Patria
DESCRIPTION: Muesta colectiva en el Salón de los Pasos Perdidos Se inaugura "Celebremos la Patria" en la Legislatura Provincial Con la inauguración de la muestra colectiva "Celebremos la Patria"\,  este jueves 20 a las 11 hs.\,  el Senado también es Cultura inicia la celebración del Mes de Mayo. La muestra reúne[..]
END:VEVENT
END:VCALENDAR