BEGIN:VCALENDAR
VERSION:2.0
PRODID:-//eventon.com NONSGML v1.0//EN
BEGIN:VEVENT
UID:69eaffa68b42f
DTSTAMP:20260424T022910
DTSTART:20210519T030000Z
DTEND:20210521T025900Z
LOCATION:
SUMMARY:Semana Gobierno Abierto
DESCRIPTION: El miércoles y jueves \,  la Municipalidad de Corrientes pondrá en marcha la Semana de Gobierno Abierto\,  “Un camino hacia el Estado Abierto”.  Se trata de un encuentro virtual gratuito donde miembros de distintos niveles de gobierno\,  universidades\,  ciudadanos\,  ONGs y expertos en la temática realizarán charlas magistrales\,  conversatorios y[..]
END:VEVENT
END:VCALENDAR