BEGIN:VCALENDAR
VERSION:2.0
PRODID:-//eventon.com NONSGML v1.0//EN
BEGIN:VEVENT
UID:69eae4db1f978
DTSTAMP:20260424T003451
DTSTART:20210601T140000Z
DTEND:20210601T150000Z
LOCATION:
SUMMARY:Distinciones del Coaching
DESCRIPTION: El Gobierno de Corrientes\,  a través del Instituto de Cultura\,  invita a la Capacitación “Distinciones del Coaching aplicadas al emprendedurismo cultural”\,  que brindará la Coach Ontológica profesional y Neurosicoeducadora María José Hadad\,  el martes 1 de junio a las 11 horas\,  a través de la plataforma Meet. Esta capacitación está[..]
END:VEVENT
END:VCALENDAR