BEGIN:VCALENDAR
VERSION:2.0
PRODID:-//eventon.com NONSGML v1.0//EN
BEGIN:VEVENT
UID:69eb1ae55ed9a
DTSTAMP:20260424T042525
DTSTART:20210519T030000Z
DTEND:20210521T025900Z
LOCATION:
SUMMARY:Semana de Gobierno Abierto
DESCRIPTION: Se viene la segunda edición virtual de la semana de Gobierno Abierto Junto a representantes de instituciones estatales\,  entidades y ONG´s de todo el país\,  debatiremos sobre gestión pública y participación ciudadana. Inscripciones abiertas en http://bit.ly/Camino_Estado_Abierto El encuentro de Gobierno Abierto abordará\,  durante el miércoles y jueves\,  los ejes de: Innovación[..]
END:VEVENT
END:VCALENDAR