BEGIN:VCALENDAR
VERSION:2.0
PRODID:-//eventon.com NONSGML v1.0//EN
BEGIN:VEVENT
UID:69eb41dfbe8ef
DTSTAMP:20260424T071143
DTSTART:20210518T230000Z
DTEND:20210519T010000Z
LOCATION:
SUMMARY:DECISIÓN ECONÓMICA EN PANDEMIA ¿QUE HACER?
DESCRIPTION: En este contexto de pandemia como empresarios nos hemos visto obligados a adaptarnos a entornos totalmente desconocidos. Hemos sido desafiados a potenciar nuestros negocios o bien a transformarlos radicalmente. Desde AJEC convocamos el martes 18-05 a las 20 Hs\,  al periodista económico y especialista en mercado Damián De Pace a[..]
END:VEVENT
END:VCALENDAR