BEGIN:VCALENDAR
VERSION:2.0
PRODID:-//eventon.com NONSGML v1.0//EN
BEGIN:VEVENT
UID:69eb625cbbb66
DTSTAMP:20260424T093020
DTSTART:20210516T230000Z
DTEND:20210517T020000Z
LOCATION:
SUMMARY:Peña Oficial 2.0
DESCRIPTION: ¡Domingo de Peña Oficial 2.0! Los vecinos podrán disfrutar a puro chamamé y folklore desde la comodidad de sus hogares\,  en un homenaje a Fito 'Capo' Ledesma que iniciará a las 20. Lo transmitiremos en vivo por nuestro Facebook y canal de Youtube
END:VEVENT
END:VCALENDAR