BEGIN:VCALENDAR
VERSION:2.0
PRODID:-//eventon.com NONSGML v1.0//EN
BEGIN:VEVENT
UID:69eb87c3e28df
DTSTAMP:20260424T120955
DTSTART:20210516T170000Z
DTEND:20210516T230000Z
LOCATION:
SUMMARY:Feria Vecinal Santa Maria Reina
DESCRIPTION: Con la #FeriaVecinal ‘Santa María Reina’ llegaremos este fin de semana al barrio Progreso Hasta las 20 los vecinos podrán acercarse a conseguir todo tipo de productos artesanales\,  plantas ornamentales y gastronomía local
END:VEVENT
END:VCALENDAR