BEGIN:VCALENDAR
VERSION:2.0
PRODID:-//eventon.com NONSGML v1.0//EN
BEGIN:VEVENT
UID:69ebb46b0a416
DTSTAMP:20260424T152027
DTSTART:20210526T220000Z
DTEND:20210527T000000Z
LOCATION:
SUMMARY:Manga\,  Animé y Derecho
DESCRIPTION: Manga\,  Animé y Derecho 26 de mayo a las 19 hs. En ZOOM. Destinado  aComunidad Académica en general. Exponen Ricardo Rabinovich-Berkman\,  Bruno Gardeñes\,  Juan Sebastián Ramos\,  Cecilia Domínguez (UBA) y Antonio de Anquín (UNNE) Actividad gratuita. Inscripciones en derecho.fade@gmail.com Se entregarán certificados. Organizan Espacio de Arte y Cultura FaDe de[..]
END:VEVENT
END:VCALENDAR