BEGIN:VCALENDAR
VERSION:2.0
PRODID:-//eventon.com NONSGML v1.0//EN
BEGIN:VEVENT
UID:69ebcd74273f3
DTSTAMP:20260424T170716
DTSTART:20210512T230000Z
DTEND:20210513T020000Z
LOCATION:Animal Bar con Fuego Av. Costanera Gral. San Martin 100
SUMMARY:Ibera Malbec
DESCRIPTION: Una cena de Gala\,  donde vas a disfrutar buena música\,  con la mejor gastronomía\,  los mejores vinos y espumantes! Tarjetas en ventas en Bar Amado (Museo de Ciencias Naturales).
END:VEVENT
END:VCALENDAR