BEGIN:VCALENDAR
VERSION:2.0
PRODID:-//eventon.com NONSGML v1.0//EN
BEGIN:VEVENT
UID:69ec16dda6137
DTSTAMP:20260424T222029
DTSTART:20210506T030000Z
DTEND:20210515T025900Z
LOCATION:Museo Provincial de Bellas Artes «Dr. Juan R. Vidal» San Juan 634\,  Corrientes Capital
SUMMARY:REGIONOGRAFÍA
DESCRIPTION: Exponen artistas Manuel Artigue\,  Agustina Aguirre\,  Darío Ojeda\,  Alex Roa\,  Bibiana Romero y Jorge Silva. Las obras trabajan con el concepto de la iconografía del folclore regional y su génesis de base proveniente mayoritariamente de la cultura española. Esta muestra podrá ser visitada de lunes a viernes en el horario[..]
END:VEVENT
END:VCALENDAR