BEGIN:VCALENDAR
VERSION:2.0
PRODID:-//eventon.com NONSGML v1.0//EN
BEGIN:VEVENT
UID:69ec2eaa4f5f6
DTSTAMP:20260425T000202
DTSTART:20210506T030000Z
DTEND:20210520T025900Z
LOCATION:Sala Adolfo Mors Pellegrini 542
SUMMARY:Reencuentro
DESCRIPTION: Expone: Marípi Conde Abierta al público del jueves 6 hasta el miércoles 19 de mayo. Horarios: Lunes a viernes de 8 a 12 y de 16 a 20 Hs. / Sábados\,  domingos y feriados de 9 a 13 y de 17 a 21 Hs.
END:VEVENT
END:VCALENDAR