BEGIN:VCALENDAR
VERSION:2.0
PRODID:-//eventon.com NONSGML v1.0//EN
BEGIN:VEVENT
UID:69ebe5b0a506e
DTSTAMP:20260424T185040
DTSTART:20210511T170000Z
DTEND:20210511T190000Z
LOCATION:
SUMMARY:Marketing y Comercialización
DESCRIPTION: Con el programa ‘Desarrollo Económico en tu Barrio’ los emprendedores locales podrán fortalecer y potenciar sus negocios. Este martes estaremos en el barrio Dr. Nicolini en un nuevo taller sobre Marketing y Comercialización. Inscripciones en http://bit.ly/Marketing1000viv…
END:VEVENT
END:VCALENDAR