BEGIN:VCALENDAR
VERSION:2.0
PRODID:-//eventon.com NONSGML v1.0//EN
BEGIN:VEVENT
UID:69ebfd93aa8b3
DTSTAMP:20260424T203235
DTSTART:20210510T140000Z
DTEND:20210510T160000Z
LOCATION:Casa Molina Carlos Pellegrini 937
SUMMARY:Bonpland\,  otras miradas
DESCRIPTION: En el próximo encuentro del Ciclo De Presentaciones del museo Casa Molinas\,  realizaremos el homenaje a al reconocido científico: ‘Bonpland\,  otras miradas'. Será el lunes desde las 11\,  con uso de barbijo obligatorio y cupos limitados
END:VEVENT
END:VCALENDAR