BEGIN:VCALENDAR
VERSION:2.0
PRODID:-//eventon.com NONSGML v1.0//EN
BEGIN:VEVENT
UID:69eca9016c371
DTSTAMP:20260425T084401
DTSTART:20210506T000000Z
DTEND:20210506T020000Z
LOCATION:Centro Cultural Flotante Siete Corrientes Avda. Costanera y La Rioja (Muelle del puerto)
SUMMARY:Ritual Jam
DESCRIPTION: Ritual @cambapsicodelico Miércoles 5 de MAYO primer presentación 21.00hs en @flotantesietecorrientes Anticipada.$300 Puerta $350 Vení a expresarte y tocar con CAMBA!  CUPOS LIMITADOS
END:VEVENT
END:VCALENDAR