BEGIN:VCALENDAR
VERSION:2.0
PRODID:-//eventon.com NONSGML v1.0//EN
BEGIN:VEVENT
UID:69ecdbf496343
DTSTAMP:20260425T122124
DTSTART:20210428T230000Z
DTEND:20210429T000000Z
LOCATION:
SUMMARY:Regionografía
DESCRIPTION: El Instituto de Cultura de Corrientes y el Museo de Bellas Artes "Doctor Juan Ramón Vidal" dejarán habilitada la muestra Regionografía. La cita es este miércoles 28 de abril a partir de las 20\,  en la sala "Eloísa Torrent de Vidal". La misma cuenta con obras de los artistas Manuel[..]
END:VEVENT
END:VCALENDAR