BEGIN:VCALENDAR
VERSION:2.0
PRODID:-//eventon.com NONSGML v1.0//EN
BEGIN:VEVENT
UID:69ecf2e1342ab
DTSTAMP:20260425T135913
DTSTART:20210427T210000Z
DTEND:20210427T230000Z
LOCATION:
SUMMARY:Taller de Cestería
DESCRIPTION: El Programa Artesanos del Iberá\,  llevado adelante por el Gobierno Provincial a través del Instituto de Cultura de Corrientes\,  invita a los interesados a la charla de difusión de la cestería como patrimonio cultural de Iberá y una oportunidad para el desarrollo local que se realizará hoy a las 18[..]
END:VEVENT
END:VCALENDAR