BEGIN:VCALENDAR
VERSION:2.0
PRODID:-//eventon.com NONSGML v1.0//EN
BEGIN:VEVENT
UID:69ed0c60bcaf1
DTSTAMP:20260425T154800
DTSTART:20210428T180000Z
DTEND:20210428T200000Z
LOCATION:
SUMMARY:Proyectos Culturales
DESCRIPTION: Pondremos en marcha el taller para aprender como armar Proyectos Culturales individuales o colectivos. En el Mes De Corrientes seguimos dando oportunidades de formación gratuitas\,  con todos los cuidados preventivos
END:VEVENT
END:VCALENDAR