BEGIN:VCALENDAR
VERSION:2.0
PRODID:-//eventon.com NONSGML v1.0//EN
BEGIN:VEVENT
UID:69ed2bf602b2d
DTSTAMP:20260425T180246
DTSTART:20210526T030000Z
DTEND:20210531T025900Z
LOCATION:
SUMMARY:ArteCo 2021
DESCRIPTION: Más de 60 artistas\,  galerías\,  colectivos y espacios autogestionados serán parte de la Feria en versión online que también se nutrirá de intervenciones urbanas en espacios públicos. El evento\,  a desplegarse del 26 al 30 de mayo\,  promete una experiencia diversa\,  colorida y rica en formatos y talentos\,  abriendo fronteras a[..]
END:VEVENT
END:VCALENDAR