BEGIN:VCALENDAR
VERSION:2.0
PRODID:-//eventon.com NONSGML v1.0//EN
BEGIN:VEVENT
UID:69ed7cf30a871
DTSTAMP:20260425T234819
DTSTART:20210423T220000Z
DTEND:20210424T000000Z
LOCATION:
SUMMARY:El principio de confianza del Derecho Civil
DESCRIPTION: Para el viernes 23 de abril el Departamento de Derecho Privado de la Facultad de Derecho de la UNNE\,  organiza un seminario donde expondrán Celia Weingarten (UBA)\,  Edgardo Saux (UNL) y Ricardo Sebastián Danuzzo (UNNE). La Facultad de Derecho y Ciencias Sociales y Políticas de la UNNE invitó a los[..]
END:VEVENT
END:VCALENDAR