BEGIN:VCALENDAR
VERSION:2.0
PRODID:-//eventon.com NONSGML v1.0//EN
BEGIN:VEVENT
UID:69ed4658ebb71
DTSTAMP:20260425T195520
DTSTART:20210427T000000Z
DTEND:20210427T020000Z
LOCATION:
SUMMARY:ANTIGONE
DESCRIPTION: Lunes 26 de abril a las 21 hs. En CINE DEBATE VIRTUAL MARIÑO se analizará el film: "ANTIGONE"\,  de la directora SOPHIE DERASPE. A pesar del drama inmigratorio de su familia Antigone se ha adaptado bien a su nuevo destino y junto a su abuela y a sus hermanos lleva[..]
END:VEVENT
END:VCALENDAR