BEGIN:VCALENDAR
VERSION:2.0
PRODID:-//eventon.com NONSGML v1.0//EN
BEGIN:VEVENT
UID:69ed6439d3f95
DTSTAMP:20260425T220249
DTSTART:20210422T200000Z
DTEND:20210422T040000Z
LOCATION:
SUMMARY:Conversatorio sobre el Acuerdo de Escazu
DESCRIPTION: Atención  se viene el "Conversatorio sobre el Acuerdo de Escazu" 22 de abril a las 17 hs. Destinado a la Comunidad Académica en general. Inscripciones para certificados en sec.academica.derecho@comunidad.unne.edu.ar
END:VEVENT
END:VCALENDAR