BEGIN:VCALENDAR
VERSION:2.0
PRODID:-//eventon.com NONSGML v1.0//EN
BEGIN:VEVENT
UID:69ed94f5b4665
DTSTAMP:20260426T013045
DTSTART:20210421T230000Z
DTEND:20210422T010000Z
LOCATION:Casa Ibera - Ctes Carlos Pellegrini 501
SUMMARY:Reserva Natural de Santa Catalina
DESCRIPTION: Ciclo de Conferencias: La Reserva Natural de Santa Catalina Hoy\,  desde las 20 Casa Iberá Inscripciones: http://docs.google.com/forms/d/e/1FAIpQLScf370PmlPs4n9994EM88EuUfC_PtbMGAEkcuuzxgoLtPetxQ/viewform?usp=sf_link… ¡Sigamos cuidándonos!
END:VEVENT
END:VCALENDAR