BEGIN:VCALENDAR
VERSION:2.0
PRODID:-//eventon.com NONSGML v1.0//EN
BEGIN:VEVENT
UID:69ebc403e8176
DTSTAMP:20260424T162659
DTSTART:20260426T230000Z
DTEND:20260427T010000Z
LOCATION:Legislatura Provincial Salta 545
SUMMARY:Corrientes Celebra\,  Corrientes Danza\,  Corrientes Peregrina
DESCRIPTION: 438° ANIVERSARIO DE LA CIUDAD DE CORRIENTES Corrientes Celebra\,  Corrientes Danza\,  Corrientes Peregrina. El Vicegobernador de la Provincia de Corrientes\,  Dr. @pedrobraillard \,  con la coordinación de la Dirección de Asuntos Culturales del Senado\,  el @ccedscorrientes y la colaboración del Instituto de Cultura @culturacorrientes \,  el Ministerio de Turismo @minturcorrientes[..]
END:VEVENT
END:VCALENDAR