BEGIN:VCALENDAR
VERSION:2.0
PRODID:-//eventon.com NONSGML v1.0//EN
BEGIN:VEVENT
UID:69ebf6e4277a0
DTSTAMP:20260424T200404
DTSTART:20260502T220000Z
DTEND:20260503T020000Z
LOCATION:Centro Cultural Flotante Siete Corrientes Avda. Costanera y La Rioja (Muelle del puerto)
SUMMARY:Danza en Movimiento
DESCRIPTION: Una experiencia escenica que invita a recorrer la danza de una forma diferente... Una historia contada en tres espacios\,  donde cada escena revela una parte del relato. Un recorrido que comienza el sabado 2 de Mayo en el Teatro Flotante\,  continúa en Espacio Mariño y culmina en el Teatro de[..]
END:VEVENT
END:VCALENDAR