BEGIN:VCALENDAR
VERSION:2.0
PRODID:-//eventon.com NONSGML v1.0//EN
BEGIN:VEVENT
UID:69eaa312cc6d4
DTSTAMP:20260423T195410
DTSTART:20261024T000000Z
DTEND:20261024T020000Z
LOCATION:Teatro Oficial Juan de Vera San Juan 637\,  Corrientes
SUMMARY:Probando Gambetas
DESCRIPTION: El próximo viernes 23 de octubre el “Trinche” llega con su espectáculo “Probando Gambetas"\,  un show de humor en vivo donde Martín Dardik (Trinche) combina stand up\,  improvisación y charla con el público. Cada función es distinta y el público es parte activa de la experiencia. El show se realizará[..]
END:VEVENT
END:VCALENDAR