BEGIN:VCALENDAR
VERSION:2.0
PRODID:-//eventon.com NONSGML v1.0//EN
BEGIN:VEVENT
UID:69ea8e2026d7d
DTSTAMP:20260423T182448
DTSTART:20260815T000000Z
DTEND:20260815T020000Z
LOCATION:Teatro Oficial Juan de Vera San Juan 637\,  Corrientes
SUMMARY:Misterios Mentales
DESCRIPTION: El mentalista e ilusionista argentino Agustín Canolik se presentará el viernes 14 de agosto\,  a las 21 horas en Teatro Oficial Juan de Vera con un show imperdible Sus videos más recientes alcanzaron más de 50 millones de visualizaciones\,  superó los 400 mil seguidores en todas las redes sociales\,  fue[..]
END:VEVENT
END:VCALENDAR