BEGIN:VCALENDAR
VERSION:2.0
PRODID:-//eventon.com NONSGML v1.0//EN
BEGIN:VEVENT
UID:69ea791e9cedf
DTSTAMP:20260423T165510
DTSTART:20260807T123000Z
DTEND:20260808T020000Z
LOCATION:Teatro Oficial Juan de Vera San Juan 637\,  Corrientes
SUMMARY:Iván Noble
DESCRIPTION: El reconocido cantante vuelve a Corrientes el 7 de agosto a las 21\, 30 horas\,  con un formato que promete una velada de honestidad artística\,  revisitando canciones a las que el artista define como "traspapeladas" o que "estaban en el cuarto cajón de la cocina" Este espectáculo íntimo rescata canciones olvidadas[..]
END:VEVENT
END:VCALENDAR