BEGIN:VCALENDAR
VERSION:2.0
PRODID:-//eventon.com NONSGML v1.0//EN
BEGIN:VEVENT
UID:69ea64843ec7d
DTSTAMP:20260423T152716
DTSTART:20260531T000000Z
DTEND:20260531T020000Z
LOCATION:Teatro Oficial Juan de Vera San Juan 637\,  Corrientes
SUMMARY:JAIRO SINFONICO
DESCRIPTION: Jairo\,  una de las voces más emblemáticas de la Música Popular Argentina vuelve a Corrientes para presentarse el próximo sábado 30 de mayo en el Teatro Oficial Juan de Vera Luego del exitoso lanzamiento de “50 años de Música”\,  el álbum conmemorativo con el que estuvo colmando las salas más[..]
END:VEVENT
END:VCALENDAR