BEGIN:VCALENDAR
VERSION:2.0
PRODID:-//eventon.com NONSGML v1.0//EN
BEGIN:VEVENT
UID:69ea39b5a9f39
DTSTAMP:20260423T122437
DTSTART:20260501T000000Z
DTEND:20260501T020000Z
LOCATION:Teatro Oficial Juan de Vera San Juan 637\,  Corrientes
SUMMARY:Día Internacional de la Danza
DESCRIPTION: En el marco del Día Internacional de la Danza\,  se llevará a cabo una gran gala el próximo jueves 30 de abril a las 21 horas en el Teatro Oficial Juan de Vera\,  con la participación de destacadas academias y artistas de la región\,  junto a invitadas especiales de Resistencia[..]
END:VEVENT
END:VCALENDAR