BEGIN:VCALENDAR
VERSION:2.0
PRODID:-//eventon.com NONSGML v1.0//EN
BEGIN:VEVENT
UID:69e72fcd6e6e5
DTSTAMP:20260421T050533
DTSTART:20260423T190000Z
DTEND:20260426T010000Z
LOCATION:Ex Regimiento Infantería Nro 9 Av. 3 de Abril 200
SUMMARY:2da Expo Deportes: Educación y Salud
DESCRIPTION: ¡Se viene la 2da Edición de la EXPO DEPORTES: Educación y Salud! ​¿Estás buscando una actividad que te apasione o simplemente quieres disfrutar de un fin de semana lleno de movimiento? ¡Este evento es para vos! Organizado por la Fundación Metas y Logros\,  llega un encuentro único con más de[..]
END:VEVENT
END:VCALENDAR