BEGIN:VCALENDAR
VERSION:2.0
PRODID:-//eventon.com NONSGML v1.0//EN
BEGIN:VEVENT
UID:69ed8f3f9556e
DTSTAMP:20260426T010623
DTSTART:20260320T220000Z
DTEND:20260322T025000Z
LOCATION:Parque Mitre Av. Juan Torres de Vera y Aragon 1597
SUMMARY:San Patricio 2026
DESCRIPTION: La cerveza artesanal tiene su fiesta. Y vos tenés que estar. 📅 20 y 21 de marzo 🕖 Desde las 19 hs 📍 Parque Mitre Dos noches de cerveza\,  música\,  gastronomía y celebración. Levantá el vaso\,  vestite de verde y vení a brindar.
END:VEVENT
END:VCALENDAR