BEGIN:VCALENDAR
VERSION:2.0
PRODID:-//eventon.com NONSGML v1.0//EN
BEGIN:VEVENT
UID:69ed46a7b23bd
DTSTAMP:20260425T195639
DTSTART:20260419T230000Z
DTEND:20260420T010000Z
LOCATION:Teatro Oficial Juan de Vera San Juan 637\,  Corrientes
SUMMARY:Lírica y Humor
DESCRIPTION: Llegan a Corrientes con una propuesta única\,  donde la música clásica y popular se unen para llevar al espectador de la mano hacia un viaje musical cargado de emociones. Los tenores del Colón\,  FERNANDO SANTIAGO (Barítono) y MARÍA JOSE DULÍN (Soprano) y ARNALDO QUIROGA (TENOR) acercan esta propuesta lírica y[..]
END:VEVENT
END:VCALENDAR