BEGIN:VCALENDAR
VERSION:2.0
PRODID:-//eventon.com NONSGML v1.0//EN
BEGIN:VEVENT
UID:69ed34db04cfc
DTSTAMP:20260425T184043
DTSTART:20260321T000000Z
DTEND:20260321T020000Z
LOCATION:Teatro Oficial Juan de Vera San Juan 637\,  Corrientes
SUMMARY:Mujer\,  Amor y Canción
DESCRIPTION: En el marco del ciclo "Cultura en clave mujer" organizado por el Instituto de Cultura de Corrientes\,  el tenor Emilio Aguilera presenta “Mujer\,  Amor y Canción”\,  un espectáculo especialmente concebido para celebrar a las mujeres. El mismo tendrá lugar el viernes 20 de marzo a las 21 horas\,  en el[..]
END:VEVENT
END:VCALENDAR