BEGIN:VCALENDAR
VERSION:2.0
PRODID:-//eventon.com NONSGML v1.0//EN
BEGIN:VEVENT
UID:69ed468d4be82
DTSTAMP:20260425T195613
DTSTART:20260419T000000Z
DTEND:20260419T020000Z
LOCATION:Teatro Oficial Juan de Vera San Juan 637\,  Corrientes
SUMMARY:La Ballena
DESCRIPTION: Se presentará el 17 y 18 de abril\,  a las 21\,  en el Teatro Oficial Juan de Vera. La obra de teatro es protagonizada por el reconocido actor Julio Chávez\,  bajo la dirección de Ricky Pashkus La misma es reconocida mundialmente e inspiró la película por la que Brendan Fraser[..]
END:VEVENT
END:VCALENDAR