BEGIN:VCALENDAR
VERSION:2.0
PRODID:-//eventon.com NONSGML v1.0//EN
BEGIN:VEVENT
UID:69ed3422d72c4
DTSTAMP:20260425T183738
DTSTART:20260215T000000Z
DTEND:20260315T020000Z
LOCATION:Teatro Oficial Juan de Vera San Juan 637\,  Corrientes
SUMMARY:El arte de ser mujer
DESCRIPTION: La Orquesta Sinfónica presenta el espectáculo "El arte de ser mujer" El Instituto de Cultura de Corrientes invita al público a asistir al concierto "El arte de ser mujer"\,  que brindará la Orquesta Sinfónica de la Provincia este sábado 14 de marzo\,  a las 21 horas\,  en el Teatro Oficial[..]
END:VEVENT
END:VCALENDAR