BEGIN:VCALENDAR
VERSION:2.0
PRODID:-//eventon.com NONSGML v1.0//EN
BEGIN:VEVENT
UID:69eb51ff4f47e
DTSTAMP:20260424T082031
DTSTART:20260313T220000Z
DTEND:20260313T230000Z
LOCATION:Museo de Arte Contemporáneo - MACC 9 de Julio 1098
SUMMARY:Ciclo GUARDIANAS
DESCRIPTION: Las mujeres construyen memoria\,  transmiten saberes y recrean la vida cultural de nuestras comunidades. Con ese espíritu\,  esta semana presentamos Guardianas\,  un ciclo de encuentros dedicado a reflexionar sobre la mujer y la transmisión de la cultura. La propuesta surge como un proyecto de cogestión entre la Universidad de la[..]
END:VEVENT
END:VCALENDAR