BEGIN:VCALENDAR
VERSION:2.0
PRODID:-//eventon.com NONSGML v1.0//EN
BEGIN:VEVENT
UID:69e8dba394202
DTSTAMP:20260422T113059
DTSTART:20260205T220000Z
DTEND:20260306T000000Z
LOCATION:Colegio Público de Abogados Tucumán 570
SUMMARY:PROTAGONISTAS DEL CAMBIO: MUJERES Y JUSTICIA
DESCRIPTION: Ciclo de Conferencias en conmemoración del Mes de la Mujer 📅 Ciclo de 4 encuentros: 5 · 12 · 19 · 26 de marzo 🕖 Horario: 19 hs 📍 Modalidad: Presencial (Tucumán 570) y transmisión diferida por YouTube 🔹 Primera Jornada — Jueves 5 de marzo “Visión Jurisprudencial de los Derechos de las Mujeres”[..]
END:VEVENT
END:VCALENDAR