BEGIN:VCALENDAR
VERSION:2.0
PRODID:-//eventon.com NONSGML v1.0//EN
BEGIN:VEVENT
UID:69eb1f7bb229b
DTSTAMP:20260424T044459
DTSTART:20260416T000000Z
DTEND:20260416T020000Z
LOCATION:Teatro Oficial Juan de Vera San Juan 637\,  Corrientes
SUMMARY:Concierto Sinfónico Música de Cine
DESCRIPTION: La Orquesta Épica presenta en Formato Sinfónico y Coral una excelente selección de Clásicos del Cine: EL Señor de los Anillos\,  EL Hobbit\,  Matrix\,  Skyfall 007\,  Transformers\,  Interestelar\,  Armagedon y un viaje retro a películas como Tiburón\,  Psicosis\,  Odisea\,  Rambo\,  Rocky \,  Top Gun y mucha más música sorpresa\,  La[..]
END:VEVENT
END:VCALENDAR