BEGIN:VCALENDAR
VERSION:2.0
PRODID:-//eventon.com NONSGML v1.0//EN
BEGIN:VEVENT
UID:69e5c19f50430
DTSTAMP:20260420T030311
DTSTART:20260306T000000Z
DTEND:20260306T020000Z
LOCATION:MIL588 La Fundación Junin 1687
SUMMARY:Peña Oficial MIL588
DESCRIPTION: Chamame en Vivo Marzo se vive con nuestra música\,  nuestras raíces y el talento de grandes artistas que hacen latir el corazón del Litoral. 🎶 Todos los jueves 🍽️ 30% OFF en platos regionales 🎟️ No se cobra derecho de espectáculo Especial Mes de la Mujer 5/03 - Alicia Maizares\, [..]
END:VEVENT
END:VCALENDAR