BEGIN:VCALENDAR
VERSION:2.0
PRODID:-//eventon.com NONSGML v1.0//EN
BEGIN:VEVENT
UID:69e5c184995f4
DTSTAMP:20260420T030244
DTSTART:20260308T190000Z
DTEND:20260309T010000Z
LOCATION:Museo de Artesanias Tradicionales Fray José de la Quintana 905
SUMMARY:FERIA DE ARTESANOS MAT
DESCRIPTION: Celebremos el Día Internacional de la Mujer apoyando el trabajo de nuestras artesanas. La presidenta del Instituto de Cultura Corrientes Lourdes Sánchez y la Dirección de Museos tienen el agrado de invitar a toda la comunidad a la Feria de Artesanías Regional\,  un encuentro especial en el marco del Día Internacional de la Mujer.  [..]
END:VEVENT
END:VCALENDAR