BEGIN:VCALENDAR
VERSION:2.0
PRODID:-//eventon.com NONSGML v1.0//EN
BEGIN:VEVENT
UID:69e5984c1ca3e
DTSTAMP:20260420T000652
DTSTART:20260329T000000Z
DTEND:20260329T025000Z
LOCATION:
SUMMARY:El Zar
DESCRIPTION: @elzarmusica en CORRIENTES POR PRIMERA VEZ!! EL ZAR llega por primera vez a Corrientes presentando su último álbum PARADISO. Consolidados como uno de los proyectos más relevantes de la nueva escena musical. Sábado 28 de marzo – 21:00hs ENTRADAS NORTETICKET.COM PUNTOS DE VENTA @pibacorrientes @quesearockctes_oficial
END:VEVENT
END:VCALENDAR