BEGIN:VCALENDAR
VERSION:2.0
PRODID:-//eventon.com NONSGML v1.0//EN
BEGIN:VEVENT
UID:69e595d3b087e
DTSTAMP:20260419T235619
DTSTART:20260307T220000Z
DTEND:20260307T230000Z
LOCATION:
SUMMARY:Candlelight: Larga Vida a las Leyendas del Rock
DESCRIPTION: Candlelight son los conciertos a la luz de las velas que traen la magia de una experiencia musical y multisensorial en vivo a lugares increíbles en Corrientes. Compra ya tus entradas para descubrir la música de Queen en Teatro Juan de Vera bajo la tenue luz de las velas Programa[..]
END:VEVENT
END:VCALENDAR