BEGIN:VCALENDAR
VERSION:2.0
PRODID:-//eventon.com NONSGML v1.0//EN
BEGIN:VEVENT
UID:69e550c370ba4
DTSTAMP:20260419T190139
DTSTART:20260412T233000Z
DTEND:20260413T010000Z
LOCATION:Teatro Oficial Juan de Vera San Juan 637\,  Corrientes
SUMMARY:Candlelight: Tributo a Adele
DESCRIPTION: Candlelight son los conciertos a la luz de las velas que traen la magia de una experiencia musical y multisensorial en vivo a lugares increíbles en Corrientes. Compra ya tus entradas para descubrir la música de Adele en Teatro Juan de Vera bajo la tenue luz de las velas Programa[..]
END:VEVENT
END:VCALENDAR