BEGIN:VCALENDAR
VERSION:2.0
PRODID:-//eventon.com NONSGML v1.0//EN
BEGIN:VEVENT
UID:69e595e276f95
DTSTAMP:20260419T235634
DTSTART:20260308T003000Z
DTEND:20260308T013000Z
LOCATION:Teatro Oficial Juan de Vera San Juan 637\,  Corrientes
SUMMARY:Candlelight: Las Cuatro Estaciones de Vivaldi
DESCRIPTION: Candlelight son los conciertos a la luz de las velas que traen la magia de una experiencia musical y multisensorial en vivo a lugares increíbles en Corrientes. Compra ya tus entradas para descubrir la música de Las Cuatro Estaciones de Vivaldi en Teatro Juan de Vera bajo la tenue luz[..]
END:VEVENT
END:VCALENDAR