BEGIN:VCALENDAR
VERSION:2.0
PRODID:-//eventon.com NONSGML v1.0//EN
BEGIN:VEVENT
UID:69e597bed0e11
DTSTAMP:20260420T000430
DTSTART:20260328T220000Z
DTEND:20260328T230000Z
LOCATION:Teatro Oficial Juan de Vera San Juan 637\,  Corrientes
SUMMARY:Candlelight: Tributo a Coldplay
DESCRIPTION: Candlelight son los conciertos a la luz de las velas que traen la magia de una experiencia musical y multisensorial en vivo a lugares increíbles en Corrientes. Compra ya tus entradas para descubrir la música de Coldplay en Teatro Juan de Vera bajo la tenue luz de las velas Programa[..]
END:VEVENT
END:VCALENDAR