BEGIN:VCALENDAR
VERSION:2.0
PRODID:-//eventon.com NONSGML v1.0//EN
BEGIN:VEVENT
UID:69e5800183205
DTSTAMP:20260419T222313
DTSTART:20260329T003000Z
DTEND:20260329T020000Z
LOCATION:Teatro Oficial Juan de Vera San Juan 637\,  Corrientes
SUMMARY:LO MEJOR DE HANS ZIMMER
DESCRIPTION: El 2026 comienza iluminado La música que marcó al cine contemporáneo llega al Teatro Vera Un nuevo año\,  grandes encuentros y lo mejor de la música internacional en nuestra escena.
END:VEVENT
END:VCALENDAR