BEGIN:VCALENDAR
VERSION:2.0
PRODID:-//eventon.com NONSGML v1.0//EN
BEGIN:VEVENT
UID:69e54f367a31d
DTSTAMP:20260419T185502
DTSTART:20260405T020000Z
DTEND:20260405T023000Z
LOCATION:Club Basquetbol Cordoba Catamarca 1091
SUMMARY:REY GARUFA Y SUS TIMADORES
DESCRIPTION: Rey Garufa y sus Timadores llegan para hacer temblar Corrientes con el mejor tributo redondo. Una noche para perder el control\,  brindar a tu suerte\,  y dejar que el fuego siga encendido. Viejas heridas\,  nuevas gargantas y canciones que no quieren dejarte mentir. Porque todo preso es político\,  porque el[..]
END:VEVENT
END:VCALENDAR