BEGIN:VCALENDAR
VERSION:2.0
PRODID:-//eventon.com NONSGML v1.0//EN
BEGIN:VEVENT
UID:69e57f79533d4
DTSTAMP:20260419T222057
DTSTART:20260308T210000Z
DTEND:20260309T010000Z
LOCATION:Paseo Terrazas del Parana Av. Costanera Gral. San Martín 100
SUMMARY:Ciudad de Diseño
DESCRIPTION: Terrazas del Paraná\,  en la Costanera General San Martín\,  será el escenario este domingo 8 de marzo\,  desde las 18\,  de la feria que reúne una amplia oferta de propuestas creativas\,  y contará además con un patio gastronómico. En esta fecha\,  se resaltará el trabajo y la creatividad de mujeres[..]
END:VEVENT
END:VCALENDAR