BEGIN:VCALENDAR
VERSION:2.0
PRODID:-//eventon.com NONSGML v1.0//EN
BEGIN:VEVENT
UID:69e54fcc3e6d0
DTSTAMP:20260419T185732
DTSTART:20260426T000000Z
DTEND:20260426T025000Z
LOCATION:Concepto Yapire Av. Raúl Alfonsín 3701\,  W3402 Corrientes
SUMMARY:Rata Blanca
DESCRIPTION: El rock nacional dice presente en Corrientes y la banda porteña de hard rock\,  Rata Blanca\,  se suma a artistas ya confirmados: Don Osvaldo\,  Andrés Calamaro y Ciro y Los Persas. La presentación del 25 de abril en Concepto Yapiré se da en un contexto muy especial. La banda llega[..]
END:VEVENT
END:VCALENDAR